BEGIN:VCALENDAR
VERSION:2.0
PRODID:-//ChamberMaster//Event Calendar 2.0//EN
METHOD:PUBLISH
X-PUBLISHED-TTL:P3D
REFRESH-INTERVAL:P3D
CALSCALE:GREGORIAN
BEGIN:VEVENT
DTSTART:20191126T133000Z
DTEND:20191126T150000Z
X-MICROSOFT-CDO-ALLDAYEVENT:FALSE
SUMMARY:Coon Rapids Business Council
DESCRIPTION:
X-ALT-DESC;FMTTYPE=text/html:
LOCATION:Bunker Hills Event Center
UID:e.380.187725
SEQUENCE:3
DTSTAMP:20260419T161312Z
URL:http://members.metronorthchamber.org/events/details/coon-rapids-business-council-187725
END:VEVENT

END:VCALENDAR
