BEGIN:VCALENDAR
VERSION:2.0
PRODID:-//ChamberMaster//Event Calendar 2.0//EN
METHOD:PUBLISH
X-PUBLISHED-TTL:P3D
REFRESH-INTERVAL:P3D
CALSCALE:GREGORIAN
BEGIN:VEVENT
DTSTART:20190521T123000Z
DTEND:20190521T140000Z
X-MICROSOFT-CDO-ALLDAYEVENT:FALSE
SUMMARY:Coon Rapids Business Council
DESCRIPTION:All Coon Rapids businesses are welcome. No cost and no RSVP needed.
X-ALT-DESC;FMTTYPE=text/html:All Coon Rapids businesses are welcome. No cost and no RSVP needed.
LOCATION:Bunker Hills Event Center 12800 Bunker Prairie Road Coon Rapids 55448
UID:e.380.187723
SEQUENCE:3
DTSTAMP:20260420T022627Z
URL:http://members.metronorthchamber.org/events/details/coon-rapids-business-council-187723
END:VEVENT

END:VCALENDAR
