BEGIN:VCALENDAR
VERSION:2.0
PRODID:-//ChamberMaster//Event Calendar 2.0//EN
METHOD:PUBLISH
X-PUBLISHED-TTL:P3D
REFRESH-INTERVAL:P3D
CALSCALE:GREGORIAN
BEGIN:VEVENT
DTSTART:20181127T133000Z
DTEND:20181127T150000Z
X-MICROSOFT-CDO-ALLDAYEVENT:FALSE
SUMMARY:Coon Rapids Business Council
DESCRIPTION:All Coon Rapids businesses are welcome to attend this quarterly event. Our featured business will be Shamrock Development. Also\, the feature topic will be Commercial Development.
X-ALT-DESC;FMTTYPE=text/html:All Coon Rapids businesses are welcome to attend this quarterly event. Our featured business will be Shamrock Development. Also\, the feature topic will be Commercial Development.
LOCATION:Bunker Hills Club House East Ballroom 12800 Bunker Prairie Road
UID:e.380.180183
SEQUENCE:3
DTSTAMP:20260420T134412Z
URL:http://members.metronorthchamber.org/events/details/coon-rapids-business-council-180183
END:VEVENT

END:VCALENDAR
