BEGIN:VCALENDAR
VERSION:2.0
PRODID:-//ChamberMaster//Event Calendar 2.0//EN
METHOD:PUBLISH
X-PUBLISHED-TTL:P3D
REFRESH-INTERVAL:P3D
CALSCALE:GREGORIAN
BEGIN:VEVENT
DTSTART:20180828T123000Z
DTEND:20180828T140000Z
X-MICROSOFT-CDO-ALLDAYEVENT:FALSE
SUMMARY:Coon Rapids Business Council
DESCRIPTION:All Coon Rapids businesses are welcome to attend this quarterly meeting. \n\nFeatured business: ASAP Vacuum.\n\nTopic: "The State of Retail" with Bruce Nustad\, President of Minnesota Retailers Association.
X-ALT-DESC;FMTTYPE=text/html:<span style="font-size:14px\;"><span style="font-family:arial\;">All Coon Rapids businesses are welcome to attend this quarterly meeting.&nbsp\;<br />\n<span style="background-color: transparent\; font-variant-numeric: normal\; font-variant-east-asian: normal\; white-space: pre-wrap\;">Featured business: ASAP Vacuum.<br />\nTopic: &quot\;The State of Retail&quot\; with Bruce Nustad\, President of Minnesota Retailers Association.</span></span></span>
LOCATION:Bunker Hills Club House East Ballroom 12800 Bunker Prairie Road
UID:e.380.180182
SEQUENCE:3
DTSTAMP:20260420T170003Z
URL:http://members.metronorthchamber.org/events/details/coon-rapids-business-council-180182
END:VEVENT

END:VCALENDAR
