BEGIN:VCALENDAR
VERSION:2.0
PRODID:-//ChamberMaster//Event Calendar 2.0//EN
METHOD:PUBLISH
X-PUBLISHED-TTL:P3D
REFRESH-INTERVAL:P3D
CALSCALE:GREGORIAN
BEGIN:VEVENT
DTSTART:20180522T123000Z
DTEND:20180522T140000Z
X-MICROSOFT-CDO-ALLDAYEVENT:FALSE
SUMMARY:Coon Rapids Business Council
DESCRIPTION:All Coon Rapids business are welcome to attend this quarterly meeting. Our featured topic will be Higher Education with Anoka Tech & Anoka Ramsey Community College. Anoka Tech Foundation will also present.
X-ALT-DESC;FMTTYPE=text/html:All Coon Rapids business are welcome to attend this quarterly meeting. Our featured topic will be Higher Education with Anoka Tech &amp\; Anoka Ramsey Community College. Anoka Tech Foundation will also present. &nbsp\;&nbsp\;
LOCATION:Bunker Hills Club House East Ballroom 12800 Bunker Prairie Road
UID:e.380.180181
SEQUENCE:3
DTSTAMP:20260420T212750Z
URL:http://members.metronorthchamber.org/events/details/coon-rapids-business-council-180181
END:VEVENT

END:VCALENDAR
