BEGIN:VCALENDAR
VERSION:2.0
PRODID:-//ChamberMaster//Event Calendar 2.0//EN
METHOD:PUBLISH
X-PUBLISHED-TTL:P3D
REFRESH-INTERVAL:P3D
CALSCALE:GREGORIAN
BEGIN:VEVENT
DTSTART:20180227T133000Z
DTEND:20180227T150000Z
X-MICROSOFT-CDO-ALLDAYEVENT:FALSE
SUMMARY:Coon Rapids Business Council
DESCRIPTION:All Coon Rapids businesses are welcome to attend this quarterly meeting. Featured business: Urban Air Adventure Park. Also\, the City of Coon Rapids will be presenting a "State of the City".
X-ALT-DESC;FMTTYPE=text/html:All Coon Rapids businesses are welcome to attend this quarterly meeting. Featured business: Urban Air Adventure Park. Also\, the City of Coon Rapids will be presenting a &quot\;State of the City&quot\;.&nbsp\;
LOCATION:Bunker Hills Club House East Ballroom 12800 Bunker Prairie Road
UID:e.380.179564
SEQUENCE:3
DTSTAMP:20260421T034322Z
URL:http://members.metronorthchamber.org/events/details/coon-rapids-business-council-179564
END:VEVENT

END:VCALENDAR
