BEGIN:VCALENDAR
VERSION:2.0
PRODID:-//ChamberMaster//Event Calendar 2.0//EN
METHOD:PUBLISH
X-PUBLISHED-TTL:P3D
REFRESH-INTERVAL:P3D
CALSCALE:GREGORIAN
BEGIN:VEVENT
DTSTART:20171128T133000Z
DTEND:20171128T150000Z
X-MICROSOFT-CDO-ALLDAYEVENT:FALSE
SUMMARY:Coon Rapids Business Council
DESCRIPTION:All Coon Rapids businesses are welcome to attend this quarterly meeting. Featured business: Hi-Ten Service Center. Also hear about economic development efforts in Coon Rapids & the north metro region.
X-ALT-DESC;FMTTYPE=text/html:All Coon Rapids businesses are welcome to attend this quarterly meeting. Featured business: Hi-Ten Service Center. Also hear about economic development efforts in Coon Rapids &amp\; the north metro region.&nbsp\;
LOCATION:Bunker Hills Club House East Ballroom 12800 Bunker Prairie Road
UID:e.380.170180
SEQUENCE:3
DTSTAMP:20260421T070707Z
URL:http://members.metronorthchamber.org/events/details/coon-rapids-business-council-170180
END:VEVENT

END:VCALENDAR
