BEGIN:VCALENDAR
VERSION:2.0
PRODID:-//ChamberMaster//Event Calendar 2.0//EN
METHOD:PUBLISH
X-PUBLISHED-TTL:P3D
REFRESH-INTERVAL:P3D
CALSCALE:GREGORIAN
BEGIN:VEVENT
DTSTART:20170228T133000Z
DTEND:20170228T150000Z
X-MICROSOFT-CDO-ALLDAYEVENT:FALSE
SUMMARY:Coon Rapids Business Council
DESCRIPTION:All Coon Rapids businesses are welcome to attend this quarterly meeting.
X-ALT-DESC;FMTTYPE=text/html:All Coon Rapids businesses&nbsp\;are welcome to attend this quarterly meeting.
LOCATION:Bunker Hills Club House East Ballroom 12800 Bunker Prairie Road
UID:e.380.170177
SEQUENCE:3
DTSTAMP:20260421T221117Z
URL:http://members.metronorthchamber.org/events/details/coon-rapids-business-council-170177
END:VEVENT

END:VCALENDAR
