BEGIN:VCALENDAR
VERSION:2.0
PRODID:-//ChamberMaster//Event Calendar 2.0//EN
METHOD:PUBLISH
X-PUBLISHED-TTL:P3D
REFRESH-INTERVAL:P3D
CALSCALE:GREGORIAN
BEGIN:VEVENT
DTSTART:20151203T133000Z
DTEND:20151203T150000Z
X-MICROSOFT-CDO-ALLDAYEVENT:FALSE
SUMMARY:Coon Rapids Business Council
DESCRIPTION:All Coon Rapids businesses are welcome to attend this quarterly meeting.
X-ALT-DESC;FMTTYPE=text/html:<div style="color: gray\;"><span lang="EN" style="color: rgb(51\, 51\, 51)\; line-height: 107%\; font-family:\;">All Coon Rapids businesses are welcome to attend this quarterly meeting.&nbsp\;</span></div>\n
LOCATION:Bunker Hills Event Center East Ballroom 12800 Bunker Prairie Road Coon Rapids\, MN
UID:e.380.158541
SEQUENCE:3
DTSTAMP:20260422T234345Z
URL:http://members.metronorthchamber.org/events/details/coon-rapids-business-council-12-03-2015-158541
END:VEVENT

END:VCALENDAR
