BEGIN:VCALENDAR
VERSION:2.0
PRODID:-//ChamberMaster//Event Calendar 2.0//EN
METHOD:PUBLISH
X-PUBLISHED-TTL:P3D
REFRESH-INTERVAL:P3D
CALSCALE:GREGORIAN
BEGIN:VEVENT
DTSTART:20150827T123000Z
DTEND:20150827T140000Z
X-MICROSOFT-CDO-ALLDAYEVENT:FALSE
SUMMARY:Coon Rapids Business Council
DESCRIPTION:All Coon Rapids businesses are welcome to attend this quarterly meeting. Featured business is HOM Furniture.
X-ALT-DESC;FMTTYPE=text/html:<div style="color: gray\;"><span lang="EN" style="color: rgb(51\, 51\, 51)\; line-height: 107%\; font-family:\;">All Coon Rapids businesses are welcome to attend this quarterly meeting. Featured business is HOM Furniture.</span></div>\n
LOCATION:Bunker Hills Club House East Ballroom 12800 Bunker Prairie Road
UID:e.380.155770
SEQUENCE:3
DTSTAMP:20260423T043613Z
URL:http://members.metronorthchamber.org/events/details/coon-rapids-business-council-08-27-2015-155770
END:VEVENT

END:VCALENDAR
