BEGIN:VCALENDAR
VERSION:2.0
PRODID:-//ChamberMaster//Event Calendar 2.0//EN
METHOD:PUBLISH
X-PUBLISHED-TTL:P3D
REFRESH-INTERVAL:P3D
CALSCALE:GREGORIAN
BEGIN:VEVENT
DTSTART:20160823T123000Z
DTEND:20160823T140000Z
X-MICROSOFT-CDO-ALLDAYEVENT:FALSE
SUMMARY:Coon Rapids Business Council
DESCRIPTION:All businesses are welcome to attend this quarterly meeting. This quarter's topic: Workforce. Featured business: Morrissey Hospitality
X-ALT-DESC;FMTTYPE=text/html:<div style="color: gray\;"><span lang="EN" style="color: rgb(51\, 51\, 51)\; line-height: 107%\; font-family:\;">All&nbsp\;businesses are welcome to attend this quarterly meeting.&nbsp\;This quarter&#39\;s topic: Workforce. Featured business: Morrissey Hospitality </span></div>\n
LOCATION:Bunker Hills Event Center (Golf Clubhouse) East Ballroom 12800 Bunker Prairie Road Coon Rapids MN
UID:e.380.162943
SEQUENCE:3
DTSTAMP:20260422T070510Z
URL:http://members.metronorthchamber.org/events/details/coon-rapids-business-council-08-23-2016-162943
END:VEVENT

END:VCALENDAR
