BEGIN:VCALENDAR
VERSION:2.0
PRODID:-//ChamberMaster//Event Calendar 2.0//EN
METHOD:PUBLISH
X-PUBLISHED-TTL:P3D
REFRESH-INTERVAL:P3D
CALSCALE:GREGORIAN
BEGIN:VEVENT
DTSTART:20140529T123000Z
DTEND:20140529T140000Z
X-MICROSOFT-CDO-ALLDAYEVENT:FALSE
SUMMARY:Coon Rapids Business Council
DESCRIPTION:Includes an update on the Broadband/fiber connectivity project\, information on Open for Business program\, & the Heart Safe Initiative. The Coon Rapids Business Council meets once a quarter and all Coon Rapids businesses are welcome to attend.
X-ALT-DESC;FMTTYPE=text/html:<span class="regular">Includes an update on the Broadband/fiber connectivity project\, information on Open for Business program\, &amp\; the Heart Safe Initiative.</span> The Coon Rapids Business Council meets once a quarter and all Coon Rapids businesses are welcome to attend.
LOCATION:Bunker Hills Club House 12800 Bunker Prairie Road
UID:e.380.150054
SEQUENCE:3
DTSTAMP:20260424T030538Z
URL:http://members.metronorthchamber.org/events/details/coon-rapids-business-council-05-29-2014-150054
END:VEVENT

END:VCALENDAR
