BEGIN:VCALENDAR
VERSION:2.0
PRODID:-//ChamberMaster//Event Calendar 2.0//EN
METHOD:PUBLISH
X-PUBLISHED-TTL:P3D
REFRESH-INTERVAL:P3D
CALSCALE:GREGORIAN
BEGIN:VEVENT
DTSTART:20150528T123000Z
DTEND:20150528T140000Z
X-MICROSOFT-CDO-ALLDAYEVENT:FALSE
SUMMARY:Coon Rapids Business Council
DESCRIPTION:All Coon Rapids businesses are welcome to attend this quarterly meeting
X-ALT-DESC;FMTTYPE=text/html:<span lang="EN" style="color: rgb(51\, 51\, 51)\; line-height: 107%\; font-family: &quot\;Arial&quot\;\,sans-serif\; font-size: 10pt\; mso-fareast-font-family: Calibri\; mso-fareast-theme-font: minor-latin\; mso-ansi-language: EN\; mso-fareast-language: EN-US\; mso-bidi-language: AR-SA\;">All Coon Rapids businesses are welcome to attend this quarterly meeting</span>
LOCATION:Bunker Hills Club House East Ballroom 12800 Bunker Prairie Road
UID:e.380.155768
SEQUENCE:3
DTSTAMP:20260423T083728Z
URL:http://members.metronorthchamber.org/events/details/coon-rapids-business-council-05-28-2015-155768
END:VEVENT

END:VCALENDAR
