BEGIN:VCALENDAR
VERSION:2.0
PRODID:-//ChamberMaster//Event Calendar 2.0//EN
METHOD:PUBLISH
X-PUBLISHED-TTL:P3D
REFRESH-INTERVAL:P3D
CALSCALE:GREGORIAN
BEGIN:VEVENT
DTSTART:20160223T133000Z
DTEND:20160223T150000Z
X-MICROSOFT-CDO-ALLDAYEVENT:FALSE
SUMMARY:Coon Rapids Business Council
DESCRIPTION:All Coon Rapids businesses are welcome to attend this quarterly meeting. State of the City remarks presented. John Roberts Company is featured business.
X-ALT-DESC;FMTTYPE=text/html:<div style="color: gray\;"><span lang="EN" style="color: rgb(51\, 51\, 51)\; line-height: 107%\; font-family:\;">All Coon Rapids businesses are welcome to attend this quarterly meeting. State of the City remarks presented. John Roberts Company is featured business. </span></div>\n
LOCATION:Bunker Hills Club House East Ballroom 12800 Bunker Prairie Road
UID:e.380.162941
SEQUENCE:3
DTSTAMP:20260422T175857Z
URL:http://members.metronorthchamber.org/events/details/coon-rapids-business-council-02-23-2016-162941
END:VEVENT

END:VCALENDAR
