BEGIN:VCALENDAR
VERSION:2.0
PRODID:-//ChamberMaster//Event Calendar 2.0//EN
METHOD:PUBLISH
X-PUBLISHED-TTL:P3D
REFRESH-INTERVAL:P3D
CALSCALE:GREGORIAN
BEGIN:VEVENT
DTSTART:20140205T000000Z
DTEND:20140205T020000Z
X-MICROSOFT-CDO-ALLDAYEVENT:FALSE
SUMMARY:Cooking Class--"Food and Finance"
DESCRIPTION:Food and Finance like never before!\n\nTeresa Elmstrand from Edward Jones is teaming up with Marisa Reyes from The Power Within for a fantastic event!\n\nMarisa is going to lead us through a hands on cooking class\, where everyone does their share and learns how to prepare a special menu selected especially for this occasion.\n\nCome prepared to learn some new cooking skills and enjoy meeting members of the community. \n\nRSVP is required as space is limited!\n\nAny questions please contact Teresa's office at (763) 780-7284 or email teresa.elmstrand@edwardjones.com\n\nPlanned menu: Pan Seared Chicken Breast with Mustard-Wine Reduction\, Zesty Fresh Tabouli with Quinoa and Baked Sweet Potato Fries
X-ALT-DESC;FMTTYPE=text/html:Food and Finance like never before!<br />\nTeresa Elmstrand from Edward Jones is teaming up with Marisa Reyes from The Power Within for a fantastic event!<br />\nMarisa is going to lead us through a hands on&nbsp\;cooking class\, where everyone does their share and learns how to prepare a special menu selected especially for this occasion.<br />\nCome prepared to learn some new cooking skills and enjoy meeting members of the community.&nbsp\;<br />\nRSVP is required as space is limited!<br />\nAny questions please contact Teresa&#39\;s office at (763) 780-7284 or email <a href="mailto:teresa.elmstrand@edwardjones.com">teresa.elmstrand@edwardjones.com</a><br />\nPlanned menu: Pan Seared Chicken Breast with Mustard-Wine Reduction\, Zesty Fresh Tabouli with Quinoa and Baked Sweet Potato Fries<br />\n
LOCATION:St. Joseph's Catholic Church--171 Elm St\, Lino Lakes\, MN 55014 (the kitchen) (651) 784-3015
UID:e.380.150109
SEQUENCE:3
DTSTAMP:20260424T075812Z
URL:http://members.metronorthchamber.org/events/details/cooking-class-food-and-finance-02-04-2014-150109
END:VEVENT

END:VCALENDAR
