BEGIN:VCALENDAR
VERSION:2.0
PRODID:-//ChamberMaster//Event Calendar 2.0//EN
METHOD:PUBLISH
X-PUBLISHED-TTL:P3D
REFRESH-INTERVAL:P3D
CALSCALE:GREGORIAN
BEGIN:VEVENT
DTSTART:20161117T141500Z
DTEND:20161117T151500Z
X-MICROSOFT-CDO-ALLDAYEVENT:FALSE
SUMMARY:Connecting 101
DESCRIPTION:Join the MetroNorth Chamber of Commerce for an orientation session where we will go over all of the different ways to get involved with the Chamber and get the most out of your membership!\n\n\n\nThanks to our sponsor\, Desired Health Chiropractic\, for providing the morning treats for everyone.
X-ALT-DESC;FMTTYPE=text/html:<p style="font: 13px/18.9px sans-serif\, Arial\, Verdana\, &quot\;Trebuchet MS&quot\;\; color: rgb(51\, 51\, 51)\; text-transform: none\; text-indent: 0px\; letter-spacing: normal\; word-spacing: 0px\; white-space: normal\; widows: 1\; font-size-adjust: none\; font-stretch: normal\; -webkit-text-stroke-width: 0px\;"><span style="color: rgb(0\, 0\, 0)\;"><span style="font-size: 12px\;"><span style="font-family: arial\;"><span style="font-size: 14px\;">Join the MetroNorth Chamber of Commerce for an orientation session where we will go over all of the different ways to get involved with the Chamber and get the most out of your membership!</span></span></span></span><br />\n<br />\n<strong style="line-height: 18.9px\; font-family: sans-serif\, Arial\, Verdana\, &quot\;Trebuchet MS&quot\;\; font-size: 13px\; background-color: rgb(255\, 255\, 255)\;"><span style="font-size: 16px\;"><span style="font-family: arial\;"><span style="color: rgb(0\, 0\, 0)\;">Thanks to our sponsor\, Desired Health Chiropractic</span><span style="color: rgb(0\, 0\, 0)\;">\,</span><span style="color: rgb(0\, 0\, 0)\;">&nbsp\;for providing the morning treats for everyone.</span></span></span></strong></p>\n\n<p style="font: 13px/18.9px sans-serif\, Arial\, Verdana\, &quot\;Trebuchet MS&quot\;\; text-align: center\; color: rgb(51\, 51\, 51)\; text-transform: none\; text-indent: 0px\; letter-spacing: normal\; word-spacing: 0px\; white-space: normal\; widows: 1\; font-size-adjust: none\; font-stretch: normal\; -webkit-text-stroke-width: 0px\;"><br />\n&nbsp\;</p>\n
LOCATION:MetroNorth Chamber 21st Century Bank Building 9380 Central Avenue NE\, Suite 320 Blaine\, MN 55434
UID:e.380.165361
SEQUENCE:3
DTSTAMP:20260422T014605Z
URL:http://members.metronorthchamber.org/events/details/connecting-101-11-17-2016-165361
END:VEVENT

END:VCALENDAR
