BEGIN:VCALENDAR
VERSION:2.0
PRODID:-//ChamberMaster//Event Calendar 2.0//EN
METHOD:PUBLISH
X-PUBLISHED-TTL:P3D
REFRESH-INTERVAL:P3D
CALSCALE:GREGORIAN
BEGIN:VEVENT
DTSTART:20190108T180000Z
DTEND:20190108T193000Z
X-MICROSOFT-CDO-ALLDAYEVENT:FALSE
SUMMARY:Conf Room - The Mechanics of Manifesting
DESCRIPTION:Introductory Lunch & Learn  exploring the laws of attraction\, attitudes of gratitude\, and what it means for you.
X-ALT-DESC;FMTTYPE=text/html:Introductory Lunch &amp\; Learn&nbsp\; exploring the laws of attraction\, attitudes of gratitude\, and what it means for you.
LOCATION:Chamber Office
UID:e.380.187491
SEQUENCE:3
DTSTAMP:20260420T091717Z
URL:http://members.metronorthchamber.org/events/details/conf-room-the-mechanics-of-manifesting-187491
END:VEVENT

END:VCALENDAR
