BEGIN:VCALENDAR
VERSION:2.0
PRODID:-//ChamberMaster//Event Calendar 2.0//EN
METHOD:PUBLISH
X-PUBLISHED-TTL:P3D
REFRESH-INTERVAL:P3D
CALSCALE:GREGORIAN
BEGIN:VEVENT
DTSTART:20180702T170000Z
DTEND:20180702T180000Z
X-MICROSOFT-CDO-ALLDAYEVENT:FALSE
SUMMARY:Conf Room-Rebecca Jochum
DESCRIPTION:Lunch & Learn with Rebecca Jochum.
X-ALT-DESC;FMTTYPE=text/html:Lunch &amp\; Learn with Rebecca Jochum.
LOCATION:MetroNorth Chamber of Commerce 9380 Central Avenue NE\, Suite 320 Blaine 55434
UID:e.380.185716
SEQUENCE:3
DTSTAMP:20260420T182742Z
URL:http://members.metronorthchamber.org/events/details/conf-room-rebecca-jochum-185716
END:VEVENT

END:VCALENDAR
