BEGIN:VCALENDAR
VERSION:2.0
PRODID:-//ChamberMaster//Event Calendar 2.0//EN
METHOD:PUBLISH
X-PUBLISHED-TTL:P3D
REFRESH-INTERVAL:P3D
CALSCALE:GREGORIAN
BEGIN:VEVENT
DTSTART:20181120T180000Z
DTEND:20181120T190000Z
X-MICROSOFT-CDO-ALLDAYEVENT:FALSE
SUMMARY:CONF Room - FREE Lunch & Learn - The Mechanics of Manifesting
DESCRIPTION:A FREE Introductory Lunch & Learn\n\nGet a preview of the upcoming series exploring the laws of attraction\, attitudes of gratitude\, and what it means for you.
X-ALT-DESC;FMTTYPE=text/html:<span style="text-transform:none\;"><span style="font-family:baskerville old face\,serif\;"><span style="font-size:18.0pt\;">A FREE Introductory Lunch &amp\; Learn</span></span></span><br />\n<span style="font-family:baskerville old face\,serif\;"><span style="font-size:18.0pt\;">Get a preview of the upcoming series exploring the laws of attraction\, attitudes of gratitude\, and what it means for you.</span></span>
LOCATION:The Chamber Office Conference Room Collective Harmony Massage & Healing Arts
UID:e.380.187308
SEQUENCE:3
DTSTAMP:20260420T122447Z
URL:http://members.metronorthchamber.org/events/details/conf-room-free-lunch-learn-the-mechanics-of-manifesting-187308
END:VEVENT

END:VCALENDAR
