BEGIN:VCALENDAR
VERSION:2.0
PRODID:-//ChamberMaster//Event Calendar 2.0//EN
METHOD:PUBLISH
X-PUBLISHED-TTL:P3D
REFRESH-INTERVAL:P3D
CALSCALE:GREGORIAN
BEGIN:VEVENT
DTSTART;VALUE=DATE:20120121
DTEND;VALUE=DATE:20120123
TRANSP:TRANSPARENT
X-MICROSOFT-CDO-ALLDAYEVENT:TRUE
SUMMARY:Community Wellness Day
DESCRIPTION:Join us from 9am - 1pm for the Community Wellness Day.  Free for the entire family.  Come and enjoy wonderful wellness information\, activities for the kids and much more. \n\n\n\nOak View Middle School\n\n15400 Hanson Blvd.\n\nAndover\, MN 55304
X-ALT-DESC;FMTTYPE=text/html:Join us from 9am - 1pm for the Community Wellness Day.&nbsp\; Free for the entire family.&nbsp\; Come and enjoy wonderful wellness information\, activities for the kids and much more.&nbsp\;<br />\n<br />\nOak View Middle School<br />\n15400 Hanson Blvd.<br />\nAndover\, MN 55304
LOCATION:Oak View Middle School 15400 Hanson Blvd. Andover\, MN 55304
UID:e.380.143177
SEQUENCE:3
DTSTAMP:20260426T002220Z
URL:http://members.metronorthchamber.org/events/details/community-wellness-day-01-21-2012-143177
END:VEVENT

END:VCALENDAR
