BEGIN:VCALENDAR
VERSION:2.0
PRODID:-//ChamberMaster//Event Calendar 2.0//EN
METHOD:PUBLISH
X-PUBLISHED-TTL:P3D
REFRESH-INTERVAL:P3D
CALSCALE:GREGORIAN
BEGIN:VEVENT
DTSTART:20191006T233000Z
DTEND:20191007T010000Z
X-MICROSOFT-CDO-ALLDAYEVENT:FALSE
SUMMARY:Community Lite Nite - FREE
DESCRIPTION:At Jam Hops\, part of our mission is to connect and make a difference in our community.  We want this to be a second home for kids and families\, as well as a safe\, stress free\, fun-filled  place to be.  Lite Nite is a Devotional/Open Gym opportunity for all families in the community to attend.
X-ALT-DESC;FMTTYPE=text/html:At&nbsp\;Jam Hops\, part of our mission is to connect and make a difference in our community.&nbsp\; We want&nbsp\;this to be a second home&nbsp\;for kids and families\, as well as&nbsp\;a safe\, stress free\, fun-filled&nbsp\; place to be.&nbsp\; Lite Nite&nbsp\;is a Devotional/Open Gym opportunity for all families in the community to attend.
LOCATION:1460 133rd Lane NE\, Ham Lake
UID:e.380.191437
SEQUENCE:3
DTSTAMP:20260419T180041Z
URL:http://members.metronorthchamber.org/events/details/community-lite-nite-free-191437
END:VEVENT

END:VCALENDAR
