BEGIN:VCALENDAR
VERSION:2.0
PRODID:-//ChamberMaster//Event Calendar 2.0//EN
METHOD:PUBLISH
X-PUBLISHED-TTL:P3D
REFRESH-INTERVAL:P3D
CALSCALE:GREGORIAN
BEGIN:VEVENT
DTSTART:20191202T003000Z
DTEND:20191202T020000Z
X-MICROSOFT-CDO-ALLDAYEVENT:FALSE
SUMMARY:Community Lite Nite
DESCRIPTION:FREE devotional time and open gym for all families in the community.
X-ALT-DESC;FMTTYPE=text/html:FREE devotional time and open gym for all families in the community.
LOCATION:Jam Hops\, 1460 133rd Lane NE\, Ham Lake
UID:e.380.191640
SEQUENCE:3
DTSTAMP:20260419T142303Z
URL:http://members.metronorthchamber.org/events/details/community-lite-nite-12-01-2019-191640
END:VEVENT

END:VCALENDAR
