BEGIN:VCALENDAR
VERSION:2.0
PRODID:-//ChamberMaster//Event Calendar 2.0//EN
METHOD:PUBLISH
X-PUBLISHED-TTL:P3D
REFRESH-INTERVAL:P3D
CALSCALE:GREGORIAN
BEGIN:VEVENT
DTSTART:20191006T233000Z
DTEND:20191007T010000Z
X-MICROSOFT-CDO-ALLDAYEVENT:FALSE
SUMMARY:Community Lite Nite
DESCRIPTION:Devotional and open gym time that is FREE for all families!
X-ALT-DESC;FMTTYPE=text/html:Devotional and open gym time that is FREE for all families!
LOCATION:1460 133rd Lane NE\, Ham Lake
UID:e.380.191171
SEQUENCE:3
DTSTAMP:20260419T180154Z
URL:http://members.metronorthchamber.org/events/details/community-lite-nite-10-06-2019-191171
END:VEVENT

END:VCALENDAR
