BEGIN:VCALENDAR
VERSION:2.0
PRODID:-//ChamberMaster//Event Calendar 2.0//EN
METHOD:PUBLISH
X-PUBLISHED-TTL:P3D
REFRESH-INTERVAL:P3D
CALSCALE:GREGORIAN
BEGIN:VEVENT
DTSTART:20190414T233000Z
DTEND:20190415T010000Z
X-MICROSOFT-CDO-ALLDAYEVENT:FALSE
SUMMARY:Community Lite Nite
DESCRIPTION:Free devotional/open gym time for all families\, members and non members.
X-ALT-DESC;FMTTYPE=text/html:Free devotional/open gym time for all families\, members and non members.
LOCATION:1460 133rd Lane NE\, Ham Lake
UID:e.380.188853
SEQUENCE:3
DTSTAMP:20260420T131210Z
URL:http://members.metronorthchamber.org/events/details/community-lite-nite-04-14-2019-188853
END:VEVENT

END:VCALENDAR
