BEGIN:VCALENDAR
VERSION:2.0
PRODID:-//ChamberMaster//Event Calendar 2.0//EN
METHOD:PUBLISH
X-PUBLISHED-TTL:P3D
REFRESH-INTERVAL:P3D
CALSCALE:GREGORIAN
BEGIN:VEVENT
DTSTART:20190304T003000Z
DTEND:20190304T020000Z
X-MICROSOFT-CDO-ALLDAYEVENT:FALSE
SUMMARY:Community Lite Nite
DESCRIPTION:FREE devotional and open gym time for all families in the community.
X-ALT-DESC;FMTTYPE=text/html:FREE devotional and open gym time for all families in the community.
LOCATION:Jam Hops\, 1460 133rd Lane NE\, Ham Lake
UID:e.380.188364
SEQUENCE:3
DTSTAMP:20260420T055811Z
URL:http://members.metronorthchamber.org/events/details/community-lite-nite-03-03-2019-188364
END:VEVENT

END:VCALENDAR
