BEGIN:VCALENDAR
VERSION:2.0
PRODID:-//ChamberMaster//Event Calendar 2.0//EN
METHOD:PUBLISH
X-PUBLISHED-TTL:P3D
REFRESH-INTERVAL:P3D
CALSCALE:GREGORIAN
BEGIN:VEVENT
DTSTART:20160728T190000Z
DTEND:20160728T200000Z
X-MICROSOFT-CDO-ALLDAYEVENT:FALSE
SUMMARY:Community Education! Gizmos & Gadgets-Walker Clinic
DESCRIPTION:Come join us!\n\nLearn the proper way to use a walker\n\nCheck your walker to make sure in good condition\n\nLearn  about more medical devices to make life easier and more!
X-ALT-DESC;FMTTYPE=text/html:Come join us!<br />\nLearn the proper way to use a walker<br />\nCheck your walker to make sure in good condition<br />\nLearn &nbsp\;about more medical devices to make life easier and more!
LOCATION:3715 Coon Rapids Blvd NW\, Coon Rapids
UID:e.380.168884
SEQUENCE:3
DTSTAMP:20260422T103001Z
URL:http://members.metronorthchamber.org/events/details/community-education-gizmos-gadgets-walker-clinic-07-28-2016-168884
END:VEVENT

END:VCALENDAR
