BEGIN:VCALENDAR
VERSION:2.0
PRODID:-//ChamberMaster//Event Calendar 2.0//EN
METHOD:PUBLISH
X-PUBLISHED-TTL:P3D
REFRESH-INTERVAL:P3D
CALSCALE:GREGORIAN
BEGIN:VEVENT
DTSTART:20160922T193000Z
DTEND:20160922T203000Z
X-MICROSOFT-CDO-ALLDAYEVENT:FALSE
SUMMARY:Community Education-Be Wise\, Be Informed & Be Empowered !
DESCRIPTION:Join us at Autumn Glen Senior Living for Better Business Bureau seminar "Be Wise\, Be Informed & Be Empowered!"\n\nCome learn about:  scam reports\, BBB business reviews\, empower yourself & take action to protect yourself & more!
X-ALT-DESC;FMTTYPE=text/html:Join us at Autumn Glen Senior Living for Better Business Bureau seminar &quot\;Be Wise\, Be Informed &amp\; Be Empowered!&quot\;<br />\nCome learn about: &nbsp\;scam reports\, BBB business reviews\, empower yourself &amp\; take action to protect yourself &amp\; more!
LOCATION:Autumn Glen Senior Living 3715 Coon Rapids Blvd NW Coon Rapids\, MN 55433
UID:e.380.169158
SEQUENCE:3
DTSTAMP:20260422T052101Z
URL:http://members.metronorthchamber.org/events/details/community-education-be-wise-be-informed-be-empowered-09-22-2016-169158
END:VEVENT

END:VCALENDAR
