BEGIN:VCALENDAR
VERSION:2.0
PRODID:-//ChamberMaster//Event Calendar 2.0//EN
METHOD:PUBLISH
X-PUBLISHED-TTL:P3D
REFRESH-INTERVAL:P3D
CALSCALE:GREGORIAN
BEGIN:VEVENT
DTSTART:20190417T160000Z
DTEND:20190418T040000Z
X-MICROSOFT-CDO-ALLDAYEVENT:FALSE
SUMMARY:Community Day at Buffalo Wild Wings
DESCRIPTION:Come join us at Buffalo Wild Wings in Blaine on April 17th to celebrate Community Day! We are donating 10% of our sales to the local Boy's and Girls club. We will have prizes\, games\, and a silent auctin to help raise money for the B&G club. If you have any questins\, or would like to donate an auction prize please contact Jeff at 479@buffalowildwings.com. See you soon!!
X-ALT-DESC;FMTTYPE=text/html:Come join us at Buffalo Wild Wings in Blaine on April 17th to celebrate Community Day! We are donating 10% of our sales to the local Boy&#39\;s and Girls club. We will have prizes\, games\, and a silent auctin to help raise money for the B&amp\;G club. If you have any questins\, or would like to donate an auction prize please contact Jeff at 479@buffalowildwings.com. See you soon!!
LOCATION:Buffalo Wild Wings 1520 109th Avenue NE\, Suite 300 Blaine 55449
UID:e.380.188836
SEQUENCE:3
DTSTAMP:20260420T041507Z
URL:http://members.metronorthchamber.org/events/details/community-day-at-buffalo-wild-wings-188836
END:VEVENT

END:VCALENDAR
