BEGIN:VCALENDAR
VERSION:2.0
PRODID:-//ChamberMaster//Event Calendar 2.0//EN
METHOD:PUBLISH
X-PUBLISHED-TTL:P3D
REFRESH-INTERVAL:P3D
CALSCALE:GREGORIAN
BEGIN:VEVENT
DTSTART:20111216T183000Z
DTEND:20111216T223000Z
X-MICROSOFT-CDO-ALLDAYEVENT:FALSE
SUMMARY:Community Blood Drive at ACE Solid Waste
DESCRIPTION:ACE Solid Waste is proud to present you with the opportunity to give a special gift this holiday season by donating blood on December 16\, 2011. \n\n	\n\n	Every 2 seconds someone needs blood and only volunteer blood donors have the power to save lives.  This truly is a gift that keeps on giving.\n\n	The Memorial Blood Centers Bloodmobile will be at ACE Solid Waste from 12:30pm   4:30pm on December 16\, 2011. \n\n	\n\n	ACE is located at 6601 McKinley St NW\, Ramsey 55303\n\n	Becoming a blood donor is simple. Click on the link below and use Sponsor code 3907 to reserve your spot!\n\n	\n\n	All donors will receive a gift from ACE along with the chance to win an ACE model truck.\n\n	\n\n	If you have further questions please contact Dawn Rodriguez via email at dawn@acesolidwaste.com.\n\n	\n\n	See you on December 16th!\n\n	\n\n	ACE Blood Drive Sign Up
X-ALT-DESC;FMTTYPE=text/html:<p>\n	ACE Solid Waste is proud to present you with the opportunity to give a special gift this holiday season by donating blood on December 16\, 2011.&nbsp\;<br />\n	<br />\n	Every 2 seconds someone needs blood and only volunteer blood donors have the power to save lives.&nbsp\; This truly is a gift that keeps on giving.<o:p></o:p></p>\n<p>\n	The Memorial Blood Centers Bloodmobile will be at ACE Solid Waste from 12:30pm &ndash\; 4:30pm on December 16\, 2011.&nbsp\;<br />\n	<br />\n	ACE is located at 6601 McKinley St NW\, Ramsey 55303<o:p></o:p></p>\n<p>\n	Becoming a blood donor is simple. Click on the link below and use Sponsor code&nbsp\;<b><u>3907</u></b> to reserve your spot!<br />\n	<br />\n	All donors will receive a gift from ACE along with the chance to win an ACE model truck.<br />\n	<br />\n	If you have further questions please contact Dawn Rodriguez via email at&nbsp\;<a href="mailto:dawn@acesolidwaste.com" target="_blank" title="mailto:dawn@acesolidwaste.com">dawn@acesolidwaste.com</a>.<br />\n	<br />\n	See you on December 16th!<br />\n	<br />\n	<a href="http://allstarclub.mbc.org/mbc/mobilesch/sc.php">ACE Blood Drive Sign Up</a></p>\n
LOCATION:
UID:e.380.143012
SEQUENCE:3
DTSTAMP:20260426T015339Z
URL:http://members.metronorthchamber.org/events/details/community-blood-drive-at-ace-solid-waste-12-16-2011-143012
END:VEVENT

END:VCALENDAR
