BEGIN:VCALENDAR
VERSION:2.0
PRODID:-//ChamberMaster//Event Calendar 2.0//EN
METHOD:PUBLISH
X-PUBLISHED-TTL:P3D
REFRESH-INTERVAL:P3D
CALSCALE:GREGORIAN
BEGIN:VEVENT
DTSTART:20190402T133000Z
DTEND:20190402T143000Z
X-MICROSOFT-CDO-ALLDAYEVENT:FALSE
SUMMARY:Community Based Solutions for MN Child Welfare - Connected Kids Initiative
DESCRIPTION:If you care about community concerns like foster care\, juvenile sex trafficking\, youth homelessness\, the pipeline to prison - this is for you.  Anoka County was the first in Minnesota to collaborate with local churches\, local businesses and community members to change the direction of child welfare.  You'll hear an inspiring story of one woman and the community dream to bring hope to hurting kids. \n\n\n\nJust one hour.  The role for local businesses and churches will be the focus!
X-ALT-DESC;FMTTYPE=text/html:If you care about community concerns like foster care\, juvenile sex trafficking\, youth homelessness\, the pipeline to prison - this is for you.&nbsp\; Anoka County was the first in Minnesota to collaborate with local churches\, local businesses and community members to change the direction of child welfare.&nbsp\; You&#39\;ll hear an inspiring story of one woman and the community dream to bring hope to hurting kids.&nbsp\;<br />\n<br />\nJust one hour.&nbsp\; The role for local businesses and churches will be the focus!
LOCATION:TPC TWIN CITIES (Minnesota Room - Clubhouse) 11444 Tournament Players Parkway Blaine\, Minnesota 55449 https://tpc.com/twincities/dining/
UID:e.380.188493
SEQUENCE:3
DTSTAMP:20260420T041544Z
URL:http://members.metronorthchamber.org/events/details/community-based-solutions-for-mn-child-welfare-connected-kids-initiative-188493
END:VEVENT

END:VCALENDAR
