BEGIN:VCALENDAR
VERSION:2.0
PRODID:-//ChamberMaster//Event Calendar 2.0//EN
METHOD:PUBLISH
X-PUBLISHED-TTL:P3D
REFRESH-INTERVAL:P3D
CALSCALE:GREGORIAN
BEGIN:VEVENT
DTSTART:20161104T230000Z
DTEND:20161105T030000Z
X-MICROSOFT-CDO-ALLDAYEVENT:FALSE
SUMMARY:Comedy at the Courtyards
DESCRIPTION:Friday night dinner and a comedy show! Come on out for an excellent dinner and a show with lots os laughs! (Advance tickets only\, limited seating\, 18+ only)
X-ALT-DESC;FMTTYPE=text/html:Friday night dinner and a comedy show! Come on out for an excellent dinner and a show with lots os laughs! (Advance tickets only\, limited seating\, 18+ only)
LOCATION:13545 Martin St NW\, Andover
UID:e.380.169829
SEQUENCE:3
DTSTAMP:20260422T014657Z
URL:http://members.metronorthchamber.org/events/details/comedy-at-the-courtyards-11-04-2016-169829
END:VEVENT

END:VCALENDAR
