BEGIN:VCALENDAR
VERSION:2.0
PRODID:-//ChamberMaster//Event Calendar 2.0//EN
METHOD:PUBLISH
X-PUBLISHED-TTL:P3D
REFRESH-INTERVAL:P3D
CALSCALE:GREGORIAN
BEGIN:VEVENT
DTSTART;VALUE=DATE:20190817
DTEND;VALUE=DATE:20190818
TRANSP:TRANSPARENT
X-MICROSOFT-CDO-ALLDAYEVENT:TRUE
SUMMARY:Come Celebrate Our 5th Birthday!!
DESCRIPTION:Come Celebrate Our 5th Birthday!\n\nSaturday\, August 17\n\n9 a.m. \n\nFree Bundtlets for a Year* \n\nfor our first 100 guests with purchase\n\n*one Bundtlet per month for 12 months\, one card per household
X-ALT-DESC;FMTTYPE=text/html:<h2 style="text-align:center"><span style="font-size:12pt"><span style="font-family:times new roman\,serif"><strong><span style="font-size:20pt"><span style="font-family:helvetica\,sans-serif"><span style="color:rgb(38\, 38\, 38)">Come Celebrate Our 5<span style="font-size:20px">th</span>&nbsp\;Birthday!</span></span></span></strong></span></span></h2>\n\n<div style="text-align:center"><span style="font-size:12pt"><span style="font-family:times new roman\,serif"><span style="font-size:13pt"><span style="font-family:helvetica\,sans-serif">Saturday\, August 17</span></span></span></span></div>\n\n<div style="text-align:center">9 a.m.&nbsp\;</div>\n\n<div style="text-align:center"><strong>Free Bundtlets for a Year*&nbsp\;</strong></div>\n\n<div style="text-align:center">for our first 100 guests with purchase</div>\n\n<div style="text-align:center">*one Bundtlet per month for 12 months\, one card per household&nbsp\;</div>\n
LOCATION:1540 109th Ave NE Suite 200 Blaine\, MN 55449 Victory Village
UID:e.380.190995
SEQUENCE:3
DTSTAMP:20260419T213006Z
URL:http://members.metronorthchamber.org/events/details/come-celebrate-our-5th-birthday-190995
END:VEVENT

END:VCALENDAR
