BEGIN:VCALENDAR
VERSION:2.0
PRODID:-//ChamberMaster//Event Calendar 2.0//EN
METHOD:PUBLISH
X-PUBLISHED-TTL:P3D
REFRESH-INTERVAL:P3D
CALSCALE:GREGORIAN
BEGIN:VEVENT
DTSTART:20160618T133000Z
DTEND:20160618T153000Z
X-MICROSOFT-CDO-ALLDAYEVENT:FALSE
SUMMARY:Coffee and Donuts Fundraiser with Nolan West and guest Congressman Tom Emmer
DESCRIPTION:You are invited to a Saturday Morning Fundraiser for Nolan West For Minnesota featuring special guest Congressman Tom Emmer! Enjoy delicious donuts from Hans' Bakery in Blaine and some hot Caribou Coffee.\n\n\n\nSaturday June 18\, 2016\n\n8:30 AM to 10:30 AM\n\n\n\nSuggested Donation: $50\n\nDonuts from Hans' Bakery and Caribou Coffee will be served. \n\n\n\n\n\nCongressman Emmer is only appearing at this event as a featured speaker and is not asking for funds or donations.
X-ALT-DESC;FMTTYPE=text/html:<div style="text-align: center\;"><span style="color:rgb(75\, 79\, 86)\; font-family:helvetica\,arial\,sans-serif\; font-size:14px">You are invited to a Saturday Morning Fundraiser for&nbsp\;</span><a href="https://www.facebook.com/NolanWestforMinnesota/" style="color: rgb(54\, 88\, 153)\; cursor: pointer\; text-decoration: none\; font-family: helvetica\, arial\, sans-serif\; font-size: 14px\; line-height: 18.76px\;">Nolan West For Minnesota</a><span style="color:rgb(75\, 79\, 86)\; font-family:helvetica\,arial\,sans-serif\; font-size:14px">&nbsp\;featuring special guest&nbsp\;</span><a href="https://www.facebook.com/reptomemmer/" style="color: rgb(54\, 88\, 153)\; cursor: pointer\; text-decoration: none\; font-family: helvetica\, arial\, sans-serif\; font-size: 14px\; line-height: 18.76px\;">Congressman Tom Emmer</a><span style="color:rgb(75\, 79\, 86)\; font-family:helvetica\,arial\,sans-serif\; font-size:14px">! Enjoy delicious donuts from Hans&#39\; Bakery in Blaine and some hot Caribou Coffee.</span><br />\n<br />\n<span style="color:rgb(75\, 79\, 86)\; font-family:helvetica\,arial\,sans-serif\; font-size:14px">Saturday June 18\, 2016</span><br />\n<span style="color:rgb(75\, 79\, 86)\; font-family:helvetica\,arial\,sans-serif\; font-size:14px">8:30 AM to 10:30 AM</span><br />\n<br />\n<span style="color:rgb(75\, 79\, 86)\; font-family:helvetica\,arial\,sans-serif\; font-size:14px">Suggested Donation: $50</span><br />\n<span style="color:rgb(75\, 79\, 86)\; font-family:helvetica\,arial\,sans-serif\; font-size:14px">Donuts from&nbsp\;</span><a href="https://www.facebook.com/HansBakeryAnoka/" style="color: rgb(54\, 88\, 153)\; cursor: pointer\; text-decoration: none\; font-family: helvetica\, arial\, sans-serif\; font-size: 14px\; line-height: 18.76px\;">Hans&#39\; Bakery</a><span style="color:rgb(75\, 79\, 86)\; font-family:helvetica\,arial\,sans-serif\; font-size:14px">&nbsp\;and&nbsp\;</span><a href="https://www.facebook.com/cariboucoffee/" style="color: rgb(54\, 88\, 153)\; cursor: pointer\; text-decoration: none\; font-family: helvetica\, arial\, sans-serif\; font-size: 14px\; line-height: 18.76px\;">Caribou Coffee</a><span style="color:rgb(75\, 79\, 86)\; font-family:helvetica\,arial\,sans-serif\; font-size:14px">&nbsp\;will be served.&nbsp\;</span><br />\n<br />\n<br />\n<span style="color:rgb(75\, 79\, 86)\; font-family:helvetica\,arial\,sans-serif\; font-size:14px">Congressman Emmer is only appearing at this event as a featured speaker and is not asking for funds or donations.</span></div>\n
LOCATION:Key Air Twin Cities 9877 North Airport Road NE Blaine\, MN 55449 Saturday June 18\, 2016 8:30 AM to 10:30 AM
UID:e.380.168474
SEQUENCE:3
DTSTAMP:20260422T121007Z
URL:http://members.metronorthchamber.org/events/details/coffee-and-donuts-fundraiser-with-nolan-west-and-guest-congressman-tom-emmer-06-18-2016-168474
END:VEVENT

END:VCALENDAR
