BEGIN:VCALENDAR
VERSION:2.0
PRODID:-//ChamberMaster//Event Calendar 2.0//EN
METHOD:PUBLISH
X-PUBLISHED-TTL:P3D
REFRESH-INTERVAL:P3D
CALSCALE:GREGORIAN
BEGIN:VEVENT
DTSTART:20131119T223000Z
DTEND:20131120T000000Z
X-MICROSOFT-CDO-ALLDAYEVENT:FALSE
SUMMARY:Cocktails with Confidence
DESCRIPTION:Learn how to make 4 signature cocktails just in time for the holidays! Samples and light appetizers provided. Presented by Lee Egbert\, owner of Dashfire Bitters.
X-ALT-DESC;FMTTYPE=text/html:Learn how to make 4 signature cocktails just in time for the holidays! Samples and light appetizers provided. Presented by Lee Egbert\, owner of Dashfire Bitters. 
LOCATION:TPC - Twin Cities Clubhouse 11444 Tournament Players Pkwy Blaine
UID:e.380.149860
SEQUENCE:3
DTSTAMP:20260424T143925Z
URL:http://members.metronorthchamber.org/events/details/cocktails-with-confidence-11-19-2013-149860
END:VEVENT

END:VCALENDAR
