BEGIN:VCALENDAR
VERSION:2.0
PRODID:-//ChamberMaster//Event Calendar 2.0//EN
METHOD:PUBLISH
X-PUBLISHED-TTL:P3D
REFRESH-INTERVAL:P3D
CALSCALE:GREGORIAN
BEGIN:VEVENT
DTSTART:20150514T170000Z
DTEND:20150514T180000Z
X-MICROSOFT-CDO-ALLDAYEVENT:FALSE
SUMMARY:Club West Chiropractic Ribbon Cutting
DESCRIPTION:We are celebrating the Ribbon Cutting event of Club West Chiropractic. Club West will be providing beverages\, and other refreshments for their guests.
X-ALT-DESC;FMTTYPE=text/html:We are celebrating the Ribbon Cutting event of Club West Chiropractic. Club West will be providing beverages\, and other refreshments for their guests.&nbsp\;&nbsp\;&nbsp\;&nbsp\;
LOCATION:Club West Chiropractic\, 10995 Club West Parkway Suite 400 Blaine\, MN 55449
UID:e.380.157296
SEQUENCE:3
DTSTAMP:20260423T095823Z
URL:http://members.metronorthchamber.org/events/details/club-west-chiropractic-ribbon-cutting-05-14-2015-157296
END:VEVENT

END:VCALENDAR
