BEGIN:VCALENDAR
VERSION:2.0
PRODID:-//ChamberMaster//Event Calendar 2.0//EN
METHOD:PUBLISH
X-PUBLISHED-TTL:P3D
REFRESH-INTERVAL:P3D
CALSCALE:GREGORIAN
BEGIN:VEVENT
DTSTART:20150110T160000Z
DTEND:20150110T210000Z
X-MICROSOFT-CDO-ALLDAYEVENT:FALSE
SUMMARY:Club West Chiropractic Grand Opening Open House
DESCRIPTION:Come see our finished project and our dream! We would love to meet you and your family! We'll be giving walk throughs of the clinic\, and filling you in about what Club West Chiropractic has to offer. There will be snacks and a few little door prizes!
X-ALT-DESC;FMTTYPE=text/html:Come see our finished project and our dream! We would love to meet you and your family! We&#39\;ll be giving walk throughs of the clinic\, and filling you in about what Club West Chiropractic has to offer. There will be snacks and a few little door prizes!&nbsp\;
LOCATION:10995 Club West Parkway NE\, Suite 400\, Blaine MN 55449
UID:e.380.152517
SEQUENCE:3
DTSTAMP:20260423T144908Z
URL:http://members.metronorthchamber.org/events/details/club-west-chiropractic-grand-opening-open-house-01-10-2015-152517
END:VEVENT

END:VCALENDAR
