BEGIN:VCALENDAR
VERSION:2.0
PRODID:-//ChamberMaster//Event Calendar 2.0//EN
METHOD:PUBLISH
X-PUBLISHED-TTL:P3D
REFRESH-INTERVAL:P3D
CALSCALE:GREGORIAN
BEGIN:VEVENT
DTSTART:20160721T230000Z
DTEND:20160722T010000Z
X-MICROSOFT-CDO-ALLDAYEVENT:FALSE
SUMMARY:Classic Car Show
DESCRIPTION:Come see the classic cars\, tour Autumn Glen and enjoy refreshments!\n\nAutumn Glen voted BEST Assisted Living & Memory Care!
X-ALT-DESC;FMTTYPE=text/html:Come see the classic cars\, tour Autumn Glen and enjoy refreshments!<br />\nAutumn Glen voted BEST Assisted Living &amp\; Memory Care!
LOCATION:3715 Coon Rapids Blvd NW\, Coon Rapids\, MN
UID:e.380.168883
SEQUENCE:3
DTSTAMP:20260422T101813Z
URL:http://members.metronorthchamber.org/events/details/classic-car-show-07-21-2016-168883
END:VEVENT

END:VCALENDAR
