BEGIN:VCALENDAR
VERSION:2.0
PRODID:-//ChamberMaster//Event Calendar 2.0//EN
METHOD:PUBLISH
X-PUBLISHED-TTL:P3D
REFRESH-INTERVAL:P3D
CALSCALE:GREGORIAN
BEGIN:VEVENT
DTSTART:20170505T233000Z
DTEND:20170506T013000Z
X-MICROSOFT-CDO-ALLDAYEVENT:FALSE
SUMMARY:Cinco de Vino
DESCRIPTION:Every First Friday presents\; Cinco de Vino\, a free Cinco de Mayo Wine Tasting featuring a variety of Spanish wines to help get you into the Cinco de Mayo spirit! Come celebrate Cinco de Mayo with us and almost 50 wines!
X-ALT-DESC;FMTTYPE=text/html:<span style="background-color:rgb(255\, 255\, 255)\; color:rgb(31\, 31\, 31)\; font-family:proxima-nova\,sans-serif\; font-size:14px">Every First Friday presents\;&nbsp\;</span><strong>Cinco de Vino</strong><span style="background-color:rgb(255\, 255\, 255)\; color:rgb(31\, 31\, 31)\; font-family:proxima-nova\,sans-serif\; font-size:14px">\, a free&nbsp\;</span><a href="https://en.wikipedia.org/wiki/Cinco_de_Mayo" style="box-sizing: border-box\; margin: 0px\; padding: 0px\; border: 0px\; outline: 0px\; background: rgb(255\, 255\, 255)\; font-size: 14px\; vertical-align: baseline\; color: rgb(102\, 141\, 165)\; text-decoration-line: none\; font-family: proxima-nova\, sans-serif\;" target="_blank"><span style="color:#000000">Cinco de Mayo</span></a><span style="background-color:rgb(255\, 255\, 255)\; color:rgb(31\, 31\, 31)\; font-family:proxima-nova\,sans-serif\; font-size:14px">&nbsp\;Wine Tasting featuring a variety of Spanish wines to help get you into the Cinco de Mayo spirit!&nbsp\;Come celebrate Cinco de Mayo with us and almost 50 wines!</span>
LOCATION:Top Ten Liquor 13627 Quinn St NW Andover\, MN 55303
UID:e.380.175019
SEQUENCE:3
DTSTAMP:20260421T152411Z
URL:http://members.metronorthchamber.org/events/details/cinco-de-vino-175019
END:VEVENT

END:VCALENDAR
