BEGIN:VCALENDAR
VERSION:2.0
PRODID:-//ChamberMaster//Event Calendar 2.0//EN
METHOD:PUBLISH
X-PUBLISHED-TTL:P3D
REFRESH-INTERVAL:P3D
CALSCALE:GREGORIAN
BEGIN:VEVENT
DTSTART;VALUE=DATE:20170505
DTEND;VALUE=DATE:20170506
TRANSP:TRANSPARENT
X-MICROSOFT-CDO-ALLDAYEVENT:TRUE
SUMMARY:Cinco De-Mayo
DESCRIPTION:$5 Golf for Everyone
X-ALT-DESC;FMTTYPE=text/html:$5 Golf for Everyone
LOCATION:Glow In One Mini Golf 12579 Central Ave NE Blaine\, MN 55449
UID:e.380.173376
SEQUENCE:3
DTSTAMP:20260421T152303Z
URL:http://members.metronorthchamber.org/events/details/cinco-de-mayo-173376
END:VEVENT

END:VCALENDAR
