BEGIN:VCALENDAR
VERSION:2.0
PRODID:-//ChamberMaster//Event Calendar 2.0//EN
METHOD:PUBLISH
X-PUBLISHED-TTL:P3D
REFRESH-INTERVAL:P3D
CALSCALE:GREGORIAN
BEGIN:VEVENT
DTSTART:20170505T233000Z
DTEND:20170506T013000Z
X-MICROSOFT-CDO-ALLDAYEVENT:FALSE
SUMMARY:Cinco de Mayo
DESCRIPTION:May 5th is Cinco de Mayo\, and what better way to celebrate than with a Free Craft Beer Tasting featuring several local\, national and global breweries! We're excited to have Finnegans\, 56 Brewing and more pouring some of their best beers just for you!
X-ALT-DESC;FMTTYPE=text/html:<span style="background-color:rgb(255\, 255\, 255)\; color:rgb(31\, 31\, 31)\; font-family:proxima-nova\,sans-serif\; font-size:14px">May 5th is Cinco de Mayo\, and what better way to celebrate than with a&nbsp\;</span><strong>Free Craft Beer Tasting</strong><span style="background-color:rgb(255\, 255\, 255)\; color:rgb(31\, 31\, 31)\; font-family:proxima-nova\,sans-serif\; font-size:14px">&nbsp\;featuring several&nbsp\;local\, national and global breweries! We&rsquo\;re excited to have&nbsp\;</span><a href="http://finnegans.org/" style="box-sizing: border-box\; margin: 0px\; padding: 0px\; border: 0px\; outline: 0px\; background: rgb(255\, 255\, 255)\; font-size: 14px\; vertical-align: baseline\; color: rgb(102\, 141\, 165)\; text-decoration-line: none\; font-family: proxima-nova\, sans-serif\;" target="_blank"><span style="color:#000000">Finnegans</span></a><span style="color:#000000"><span style="background-color:rgb(255\, 255\, 255)\; font-family:proxima-nova\,sans-serif\; font-size:14px">\,&nbsp\;</span></span><a href="http://56brewing.com/" style="box-sizing: border-box\; margin: 0px\; padding: 0px\; border: 0px\; outline: 0px\; background: rgb(255\, 255\, 255)\; font-size: 14px\; vertical-align: baseline\; color: rgb(102\, 141\, 165)\; text-decoration-line: none\; font-family: proxima-nova\, sans-serif\;" target="_blank"><span style="color:#000000">56 Brewing</span></a><span style="background-color:rgb(255\, 255\, 255)\; color:rgb(31\, 31\, 31)\; font-family:proxima-nova\,sans-serif\; font-size:14px">&nbsp\;and more pouring some of their best beers just for you!</span><br />\n&nbsp\;
LOCATION:Top Ten Liquor 12513 Central Ave NE Blaine\, MN 55434
UID:e.380.175016
SEQUENCE:3
DTSTAMP:20260421T170133Z
URL:http://members.metronorthchamber.org/events/details/cinco-de-mayo-05-05-2017-175016
END:VEVENT

END:VCALENDAR
