BEGIN:VCALENDAR
VERSION:2.0
PRODID:-//ChamberMaster//Event Calendar 2.0//EN
METHOD:PUBLISH
X-PUBLISHED-TTL:P3D
REFRESH-INTERVAL:P3D
CALSCALE:GREGORIAN
BEGIN:VEVENT
DTSTART:20191219T180000Z
DTEND:20191220T020000Z
X-MICROSOFT-CDO-ALLDAYEVENT:FALSE
SUMMARY:Christmas Open House and Bake Sale
DESCRIPTION:Join us for treats\, beverages and fellowship.\n\nBaked items will be available for purchase as well.  Our Starfish Boutique will also be open.\n\nCome reflect on 2019\, take a tour\, learn about our program\, and help us fund raise to keep our mission going.
X-ALT-DESC;FMTTYPE=text/html:Join us for treats\, beverages and fellowship.<br />\nBaked items will be available for purchase as well.&nbsp\; Our Starfish Boutique will also be open.<br />\nCome reflect on 2019\, take a tour\, learn about our program\, and help us fund raise to keep our mission going.
LOCATION:1628 County Highway 10 NE. Spring Lake Park. 55432
UID:e.380.191779
SEQUENCE:3
DTSTAMP:20260419T142823Z
URL:http://members.metronorthchamber.org/events/details/christmas-open-house-and-bake-sale-12-19-2019-191779
END:VEVENT

END:VCALENDAR
