BEGIN:VCALENDAR
VERSION:2.0
PRODID:-//ChamberMaster//Event Calendar 2.0//EN
METHOD:PUBLISH
X-PUBLISHED-TTL:P3D
REFRESH-INTERVAL:P3D
CALSCALE:GREGORIAN
BEGIN:VEVENT
DTSTART:20151218T220000Z
DTEND:20151219T020000Z
X-MICROSOFT-CDO-ALLDAYEVENT:FALSE
SUMMARY:Christmas Open House
DESCRIPTION:Come celebrate the end of our Fall quarter with us!  Take a moment to reflect on the past year at Life Prep Academy\, and enjoy treats and a warm beverage. \n\nStudents have made Christmas stockings\, blankets\, and baked goods for purchase.\n\n\n\n\n\nIf you\, or your business\, is looking for a worthy cause to make a tax-deductible donation\, please consider LPA.
X-ALT-DESC;FMTTYPE=text/html:Come celebrate the end of our Fall quarter with us!&nbsp\; Take a moment to reflect on the past year at Life Prep Academy\, and enjoy treats and a warm beverage.&nbsp\;<br />\nStudents have made Christmas stockings\, blankets\, and baked goods for purchase.<br />\n<br />\n<br />\nIf you\, or your business\, is looking for a worthy cause to make a tax-deductible donation\, please consider LPA.
LOCATION:1628 County Highway 10 NE\, Spring Lake Park\, 55432
UID:e.380.159887
SEQUENCE:3
DTSTAMP:20260422T234410Z
URL:http://members.metronorthchamber.org/events/details/christmas-open-house-12-18-2015-159887
END:VEVENT

END:VCALENDAR
