BEGIN:VCALENDAR
VERSION:2.0
PRODID:-//ChamberMaster//Event Calendar 2.0//EN
METHOD:PUBLISH
X-PUBLISHED-TTL:P3D
REFRESH-INTERVAL:P3D
CALSCALE:GREGORIAN
BEGIN:VEVENT
DTSTART:20141210T220000Z
DTEND:20141211T010000Z
X-MICROSOFT-CDO-ALLDAYEVENT:FALSE
SUMMARY:Christmas Open House
DESCRIPTION:Stop by and meet Dan and Carol and have some light refreshments as we celebrate the season!
X-ALT-DESC;FMTTYPE=text/html:<p>Stop by and meet Dan and Carol and have some light refreshments as we celebrate the season!</p>\n
LOCATION:Edward Jones 9304 Lexington AVe N Circle Pines\, Mn 55014
UID:e.380.152162
SEQUENCE:3
DTSTAMP:20260423T173629Z
URL:http://members.metronorthchamber.org/events/details/christmas-open-house-12-10-2014-152162
END:VEVENT

END:VCALENDAR
