BEGIN:VCALENDAR
VERSION:2.0
PRODID:-//ChamberMaster//Event Calendar 2.0//EN
METHOD:PUBLISH
X-PUBLISHED-TTL:P3D
REFRESH-INTERVAL:P3D
CALSCALE:GREGORIAN
BEGIN:VEVENT
DTSTART:20161215T223000Z
DTEND:20161216T003000Z
X-MICROSOFT-CDO-ALLDAYEVENT:FALSE
SUMMARY:Christmas at Crooners
DESCRIPTION:Take a break from your holiday preparations\, and join us in the beautiful Dunsmore Room at Crooners Lounge & Supper Club. We will be having dinner and enjoying live music\, plus great networking opportunities.
X-ALT-DESC;FMTTYPE=text/html:Take a break from your holiday preparations\, and join us in the beautiful Dunsmore Room at Crooners Lounge &amp\; Supper Club. We will be having dinner and enjoying live music\, plus great networking opportunities.
LOCATION:Crooners Lounge and Supper Club 6161 Highway 65 NE Fridley 55432
UID:e.380.169649
SEQUENCE:3
DTSTAMP:20260421T235443Z
URL:http://members.metronorthchamber.org/events/details/christmas-at-crooners-169649
END:VEVENT

END:VCALENDAR
