BEGIN:VCALENDAR
VERSION:2.0
PRODID:-//ChamberMaster//Event Calendar 2.0//EN
METHOD:PUBLISH
X-PUBLISHED-TTL:P3D
REFRESH-INTERVAL:P3D
CALSCALE:GREGORIAN
BEGIN:VEVENT
DTSTART:20141219T210000Z
DTEND:20141220T020000Z
X-MICROSOFT-CDO-ALLDAYEVENT:FALSE
SUMMARY:Christman Open House at Life Prep Academy
DESCRIPTION:Stop in on December 19th for a warm beverage and treats from around the world. See what's happening at LPA. There will be games ans activities (for kids from 1 to 92) throughout the day.\n\n\n\nA few items made by students and staff will be for sale (great to use as gifts)\n\n\n\n7:30 we will begin showing "It's A Wonderful Life"\, with pizza\, popcorn\, and pop.
X-ALT-DESC;FMTTYPE=text/html:Stop in on December 19th for a warm beverage and treats from around the world. See what&#39\;s happening at LPA. There will be games ans activities (for kids from 1 to 92) throughout the day.<br />\n<br />\nA few items made by students and staff will be for sale (great to use as gifts)<br />\n<br />\n7:30 we will begin showing &quot\;It&#39\;s A Wonderful Life&quot\;\, with pizza\, popcorn\, and pop.
LOCATION:1628 County Highway 10 NE Spring Lake Park\, 55432
UID:e.380.152170
SEQUENCE:3
DTSTAMP:20260423T174000Z
URL:http://members.metronorthchamber.org/events/details/christman-open-house-at-life-prep-academy-12-19-2014-152170
END:VEVENT

END:VCALENDAR
