BEGIN:VCALENDAR
VERSION:2.0
PRODID:-//ChamberMaster//Event Calendar 2.0//EN
METHOD:PUBLISH
X-PUBLISHED-TTL:P3D
REFRESH-INTERVAL:P3D
CALSCALE:GREGORIAN
BEGIN:VEVENT
DTSTART;VALUE=DATE:20140401
DTEND;VALUE=DATE:20140501
TRANSP:TRANSPARENT
X-MICROSOFT-CDO-ALLDAYEVENT:TRUE
SUMMARY:Chiropractic For A Cause!
DESCRIPTION:Want to be a hero? Join Dr. Theresa Burns in raising money for cancer research and The Leukemia & Lymphoma Society (LLS)!\n\n \n\nDuring the month of April\, schedule with Dr. Burns and receive a consultation\, examination and 2 treatments  \n\n\n\nThat's a $300 value - all for a 100% tax deductible donation* to LLS!\n\n\n\nAs a cancer survivor herself\, Dr. Burns understands the importance of continued cancer  research and is proud to be training for her 2nd   Ironman while raising money for the leukemia & Lymphoma Society. Please join her in her cause to help find a cure for cancer.\n\n \n\nCall Morningstar Chiropractic Clinic to schedule your appointment today!\n\n(763) 571-0800\n\n* Minimum suggested donation - $50\n\n\n\nMore info can be found here: http://pages.teamintraining.org/mn/ironraci14/TheresaLucito
X-ALT-DESC;FMTTYPE=text/html:<br />\nWant to be a hero? Join Dr. Theresa Burns in raising money for cancer research and The Leukemia &amp\; Lymphoma Society (LLS)!<br />\n&nbsp\;<br />\nDuring the month of April\, schedule with Dr. Burns and receive a consultation\, examination and 2 treatments &hellip\;<br />\n<br />\nThat&rsquo\;s a $300 value - all for a 100% tax deductible donation* to LLS!<br />\n<br />\nAs a cancer survivor herself\, Dr. Burns understands the importance of continued cancer&nbsp\; research and is proud to be training for her 2nd &frac12\; Ironman while raising money for the leukemia &amp\; Lymphoma Society. Please join her in her cause to help find a cure for cancer.<br />\n&nbsp\;<br />\nCall Morningstar Chiropractic Clinic to schedule your appointment today!<br />\n(763) 571-0800<br />\n* Minimum suggested donation - $50<br />\n<br />\nMore info can be found here: <a href="http://pages.teamintraining.org/mn/ironraci14/TheresaLucito">http://pages.teamintraining.org/mn/ironraci14/TheresaLucito</a>
LOCATION:Morningstar Chiropractic Clinic 1210 E. Moore Lake Dr. Fridley\, MN 55432
UID:e.380.150869
SEQUENCE:3
DTSTAMP:20260424T043918Z
URL:http://members.metronorthchamber.org/events/details/chiropractic-for-a-cause-04-01-2014-150869
END:VEVENT

END:VCALENDAR
