BEGIN:VCALENDAR
VERSION:2.0
PRODID:-//ChamberMaster//Event Calendar 2.0//EN
METHOD:PUBLISH
X-PUBLISHED-TTL:P3D
REFRESH-INTERVAL:P3D
CALSCALE:GREGORIAN
BEGIN:VEVENT
DTSTART;VALUE=DATE:20130401
DTEND;VALUE=DATE:20130501
TRANSP:TRANSPARENT
X-MICROSOFT-CDO-ALLDAYEVENT:TRUE
SUMMARY:Chiropractic For A Cause!
DESCRIPTION:During the month of April\, schedule with Dr. Burns and receive a consultation\, examination and two treatments ... in exchange for a 100% tax deductible donation* to The Leukemia & Lymphoma Society!\n\n	As a cancer survivor\, Dr. Burns understands the importance of continued cancer research and is proud to be training for her 3rd (and longest!) triathlon while raising money for LLS. Please join her in finding a cure for cancer.\n\n	\n\n	Call Morningstar to schedule your appointment today!\n\n	* Minimum suggested donation - $50\n\n	\n\n	For more info or to donate online visit: http://pages.teamintraining.org/mn/drctytri13/theburnssisters
X-ALT-DESC;FMTTYPE=text/html:<h1 style="text-align: center\; color: blue\; text-transform: none\; line-height: normal\; text-indent: 0px\; letter-spacing: normal\; font-family: Arial\, Verdana\, sans-serif\; font-style: normal\; font-variant: normal\; word-spacing: 0px\; white-space: normal\; -webkit-text-size-adjust: auto\; -webkit-text-stroke-width: 0px\;">\n	<span style="font-size: 12px\;"><strong style="color: rgb(34\, 34\, 34)\; font-size: 14px\;"><span style="color: rgb(255\, 0\, 0)\;">During the month of April\, schedule with Dr. Burns and receive a consultation\, examination and two treatments ... in exchange for a 100% tax deductible donation* to The Leukemia &amp\; Lymphoma Society!</span></strong></span></h1>\n<div style="font: 12px/normal Arial\, Verdana\, sans-serif\; text-align: center\; color: rgb(34\, 34\, 34)\; text-transform: none\; text-indent: 0px\; letter-spacing: normal\; word-spacing: 0px\; white-space: normal\; font-size-adjust: none\; font-stretch: normal\; -webkit-text-size-adjust: auto\; -webkit-text-stroke-width: 0px\;">\n	<strong><em><span style="color: rgb(0\, 0\, 128)\;">As a cancer survivor\, Dr. Burns understands the importance of continued cancer research and is proud to be training for her 3rd (and longest!) triathlon while raising money for LLS. Please join her in finding a cure for cancer.<br />\n	<br />\n	Call Morningstar to schedule your appointment today!<br />\n	* Minimum suggested donation - $50<br />\n	<br />\n	For more info or to donate online visit:</span><a href="http://pages.teamintraining.org/mn/drctytri13/theburnssisters"><span style="font-size: 12px\;"><span style="color: rgb(255\, 0\, 0)\;"><u>&nbsp\;</u></span></span></a></em></strong><a href="http://pages.teamintraining.org/mn/drctytri13/theburnssisters"><span style="font-size: 12px\;"><span style="color: rgb(255\, 0\, 0)\;"><u>http://pages.teamintraining.org/mn/drctytri13/theburnssisters</u></span></span></a></div>\n
LOCATION:Morningstar Chiropractic Clinic 1210 E. Moore Lake Dr. Fridley\, MN 55432
UID:e.380.148736
SEQUENCE:3
DTSTAMP:20260425T015937Z
URL:http://members.metronorthchamber.org/events/details/chiropractic-for-a-cause-04-01-2013-148736
END:VEVENT

END:VCALENDAR
