BEGIN:VCALENDAR
VERSION:2.0
PRODID:-//ChamberMaster//Event Calendar 2.0//EN
METHOD:PUBLISH
X-PUBLISHED-TTL:P3D
REFRESH-INTERVAL:P3D
CALSCALE:GREGORIAN
BEGIN:VEVENT
DTSTART:20190323T211500Z
DTEND:20190323T224500Z
X-MICROSOFT-CDO-ALLDAYEVENT:FALSE
SUMMARY:Cheer Clinic
DESCRIPTION:Come learn how to be a cheerleader!
X-ALT-DESC;FMTTYPE=text/html:Come learn how to be a cheerleader!
LOCATION:Jam Hops\, 1460 133rd Lane NE\, Ham Lake
UID:e.380.188403
SEQUENCE:3
DTSTAMP:20260420T073600Z
URL:http://members.metronorthchamber.org/events/details/cheer-clinic-188403
END:VEVENT

END:VCALENDAR
