BEGIN:VCALENDAR
VERSION:2.0
PRODID:-//ChamberMaster//Event Calendar 2.0//EN
METHOD:PUBLISH
X-PUBLISHED-TTL:P3D
REFRESH-INTERVAL:P3D
CALSCALE:GREGORIAN
BEGIN:VEVENT
DTSTART:20190921T211500Z
DTEND:20190921T224500Z
X-MICROSOFT-CDO-ALLDAYEVENT:FALSE
SUMMARY:Cheer Clinic
DESCRIPTION:Get some tips on how to become a more sturdy base or a stronger flyer\, or maybe even try a new position! You will learn new stunts and have fun trying new things with our cheer coaches!!
X-ALT-DESC;FMTTYPE=text/html:<span style="font-size:16px">Get some tips on how to become a more sturdy base or a stronger flyer\, or maybe even try a new position! You will learn new stunts and have fun trying new things with our cheer coaches!!</span>
LOCATION:1460 133rd Lane NE\, Ham Lake\, MN 55304
UID:e.380.191164
SEQUENCE:3
DTSTAMP:20260419T193224Z
URL:http://members.metronorthchamber.org/events/details/cheer-clinic-09-21-2019-191164
END:VEVENT

END:VCALENDAR
