BEGIN:VCALENDAR
VERSION:2.0
PRODID:-//ChamberMaster//Event Calendar 2.0//EN
METHOD:PUBLISH
X-PUBLISHED-TTL:P3D
REFRESH-INTERVAL:P3D
CALSCALE:GREGORIAN
BEGIN:VEVENT
DTSTART:20190511T211500Z
DTEND:20190511T224500Z
X-MICROSOFT-CDO-ALLDAYEVENT:FALSE
SUMMARY:Cheer Clinic
DESCRIPTION:Come learn how to do stunts\, jumps and more!
X-ALT-DESC;FMTTYPE=text/html:Come learn how to do stunts\, jumps and more!
LOCATION:1460 133rd Lane NE\, Ham Lake
UID:e.380.188933
SEQUENCE:3
DTSTAMP:20260420T041543Z
URL:http://members.metronorthchamber.org/events/details/cheer-clinic-05-11-2019-188933
END:VEVENT

END:VCALENDAR
